BEGIN:VCALENDAR
VERSION:2.0
PRODID:-//Saskatoon and District AA - ECPv6.15.20//NONSGML v1.0//EN
CALSCALE:GREGORIAN
METHOD:PUBLISH
X-WR-CALNAME:Saskatoon and District AA
X-ORIGINAL-URL:https://aasaskatoon.org
X-WR-CALDESC:Events for Saskatoon and District AA
REFRESH-INTERVAL;VALUE=DURATION:PT1H
X-Robots-Tag:noindex
X-PUBLISHED-TTL:PT1H
BEGIN:VTIMEZONE
TZID:America/Regina
BEGIN:STANDARD
TZOFFSETFROM:-0600
TZOFFSETTO:-0600
TZNAME:CST
DTSTART:20250101T000000
END:STANDARD
END:VTIMEZONE
BEGIN:VEVENT
DTSTART;TZID=America/Regina:20260425T130000
DTEND;TZID=America/Regina:20260425T230000
DTSTAMP:20260424T063313
CREATED:20260226T185723Z
LAST-MODIFIED:20260226T185723Z
UID:2556-1777122000-1777158000@aasaskatoon.org
SUMMARY:Humboldt Roundup
DESCRIPTION:AA & Al-Anon.\nRooms available @ St Peters Abbey.  Call for availability @ 1-306-382-1775.\nAdults:  $35.00.  5-12 years:  $25.00.  Under 5 years:  Free\,
URL:https://aasaskatoon.org/event/humboldt-roundup/
LOCATION:St. Peter’s Abbey\, Munster\, Saskatchewan\, Canada
ATTACH;FMTTYPE=image/png:https://aasaskatoon.org/wp-content/uploads/2026/02/Humboldt-Roundup-April-25th-2026.png
END:VEVENT
END:VCALENDAR